BEGIN:VCALENDAR
VERSION:2.0
PRODID:-//EbE - ECPv6.15.20//NONSGML v1.0//EN
CALSCALE:GREGORIAN
METHOD:PUBLISH
X-WR-CALNAME:EbE
X-ORIGINAL-URL:https://www.eltern-beraten-eltern.de
X-WR-CALDESC:Veranstaltungen für EbE
REFRESH-INTERVAL;VALUE=DURATION:PT1H
X-Robots-Tag:noindex
X-PUBLISHED-TTL:PT1H
BEGIN:VTIMEZONE
TZID:Europe/Berlin
BEGIN:DAYLIGHT
TZOFFSETFROM:+0100
TZOFFSETTO:+0200
TZNAME:CEST
DTSTART:20250330T010000
END:DAYLIGHT
BEGIN:STANDARD
TZOFFSETFROM:+0200
TZOFFSETTO:+0100
TZNAME:CET
DTSTART:20251026T010000
END:STANDARD
BEGIN:DAYLIGHT
TZOFFSETFROM:+0100
TZOFFSETTO:+0200
TZNAME:CEST
DTSTART:20260329T010000
END:DAYLIGHT
BEGIN:STANDARD
TZOFFSETFROM:+0200
TZOFFSETTO:+0100
TZNAME:CET
DTSTART:20261025T010000
END:STANDARD
BEGIN:DAYLIGHT
TZOFFSETFROM:+0100
TZOFFSETTO:+0200
TZNAME:CEST
DTSTART:20270328T010000
END:DAYLIGHT
BEGIN:STANDARD
TZOFFSETFROM:+0200
TZOFFSETTO:+0100
TZNAME:CET
DTSTART:20271031T010000
END:STANDARD
END:VTIMEZONE
BEGIN:VEVENT
DTSTART;TZID=Europe/Berlin:20260509T143000
DTEND;TZID=Europe/Berlin:20260509T163000
DTSTAMP:20260419T191859
CREATED:20260113T181643Z
LAST-MODIFIED:20260311T164403Z
UID:10008475-1778337000-1778344200@www.eltern-beraten-eltern.de
SUMMARY:EbE-Familientreffen
DESCRIPTION:Einmal monatlich treffen wir uns mit Familien von Kindern mit Beeinträchtigung und den Geschwisterkindern in den Horträumen der Adolf-Glaßbrenner-Schule\, Hagelberger Str. 34\, 10965 Berlin-Kreuzberg. Wir lernen uns kennen\, tauschen uns aus\, spielen oder basteln. Offen für alle interessierten Familien! \nNUR MIT ANMELDUNG!Bitte meldet Euch hier an: haefele@eltern-beraten-eltern.de \nWir freuen uns auf Euch!!Das EbE-Team \nWICHTIG: Das Treffen findet ab 3 Familien statt\, daher ist eine Anmeldung/ Absage wichtig! DANKE!
URL:https://www.eltern-beraten-eltern.de/veranstaltung/ebe-familientreffen-in-kreuzberg/2026-05-09
CATEGORIES:Aktion & Kultur,EbE Veranstaltungen,Live
ATTACH;FMTTYPE=image/png:https://www.eltern-beraten-eltern.de/wp-content/uploads/2025/01/EbE-Familiebtreffen-orange.png
END:VEVENT
BEGIN:VEVENT
DTSTART;TZID=Europe/Berlin:20260613T143000
DTEND;TZID=Europe/Berlin:20260613T163000
DTSTAMP:20260419T191859
CREATED:20260113T181643Z
LAST-MODIFIED:20260311T164403Z
UID:10008476-1781361000-1781368200@www.eltern-beraten-eltern.de
SUMMARY:EbE-Familientreffen
DESCRIPTION:Einmal monatlich treffen wir uns mit Familien von Kindern mit Beeinträchtigung und den Geschwisterkindern in den Horträumen der Adolf-Glaßbrenner-Schule\, Hagelberger Str. 34\, 10965 Berlin-Kreuzberg. Wir lernen uns kennen\, tauschen uns aus\, spielen oder basteln. Offen für alle interessierten Familien! \nNUR MIT ANMELDUNG!Bitte meldet Euch hier an: haefele@eltern-beraten-eltern.de \nWir freuen uns auf Euch!!Das EbE-Team \nWICHTIG: Das Treffen findet ab 3 Familien statt\, daher ist eine Anmeldung/ Absage wichtig! DANKE!
URL:https://www.eltern-beraten-eltern.de/veranstaltung/ebe-familientreffen-in-kreuzberg/2026-06-13
CATEGORIES:Aktion & Kultur,EbE Veranstaltungen,Live
ATTACH;FMTTYPE=image/png:https://www.eltern-beraten-eltern.de/wp-content/uploads/2025/01/EbE-Familiebtreffen-orange.png
END:VEVENT
BEGIN:VEVENT
DTSTART;TZID=Europe/Berlin:20260919T143000
DTEND;TZID=Europe/Berlin:20260919T163000
DTSTAMP:20260419T191859
CREATED:20260113T181643Z
LAST-MODIFIED:20260311T164403Z
UID:10008477-1789828200-1789835400@www.eltern-beraten-eltern.de
SUMMARY:EbE-Familientreffen
DESCRIPTION:Einmal monatlich treffen wir uns mit Familien von Kindern mit Beeinträchtigung und den Geschwisterkindern in den Horträumen der Adolf-Glaßbrenner-Schule\, Hagelberger Str. 34\, 10965 Berlin-Kreuzberg. Wir lernen uns kennen\, tauschen uns aus\, spielen oder basteln. Offen für alle interessierten Familien! \nNUR MIT ANMELDUNG!Bitte meldet Euch hier an: haefele@eltern-beraten-eltern.de \nWir freuen uns auf Euch!!Das EbE-Team \nWICHTIG: Das Treffen findet ab 3 Familien statt\, daher ist eine Anmeldung/ Absage wichtig! DANKE!
URL:https://www.eltern-beraten-eltern.de/veranstaltung/ebe-familientreffen-in-kreuzberg/2026-09-19
CATEGORIES:Aktion & Kultur,EbE Veranstaltungen,Live
ATTACH;FMTTYPE=image/png:https://www.eltern-beraten-eltern.de/wp-content/uploads/2025/01/EbE-Familiebtreffen-orange.png
END:VEVENT
BEGIN:VEVENT
DTSTART;TZID=Europe/Berlin:20261128T143000
DTEND;TZID=Europe/Berlin:20261128T163000
DTSTAMP:20260419T191859
CREATED:20260113T181643Z
LAST-MODIFIED:20260311T164403Z
UID:10008478-1795876200-1795883400@www.eltern-beraten-eltern.de
SUMMARY:EbE-Familientreffen
DESCRIPTION:Einmal monatlich treffen wir uns mit Familien von Kindern mit Beeinträchtigung und den Geschwisterkindern in den Horträumen der Adolf-Glaßbrenner-Schule\, Hagelberger Str. 34\, 10965 Berlin-Kreuzberg. Wir lernen uns kennen\, tauschen uns aus\, spielen oder basteln. Offen für alle interessierten Familien! \nNUR MIT ANMELDUNG!Bitte meldet Euch hier an: haefele@eltern-beraten-eltern.de \nWir freuen uns auf Euch!!Das EbE-Team \nWICHTIG: Das Treffen findet ab 3 Familien statt\, daher ist eine Anmeldung/ Absage wichtig! DANKE!
URL:https://www.eltern-beraten-eltern.de/veranstaltung/ebe-familientreffen-in-kreuzberg/2026-11-28
CATEGORIES:Aktion & Kultur,EbE Veranstaltungen,Live
ATTACH;FMTTYPE=image/png:https://www.eltern-beraten-eltern.de/wp-content/uploads/2025/01/EbE-Familiebtreffen-orange.png
END:VEVENT
END:VCALENDAR