BEGIN:VCALENDAR
VERSION:2.0
PRODID:-//EbE - ECPv6.15.20//NONSGML v1.0//EN
CALSCALE:GREGORIAN
METHOD:PUBLISH
X-WR-CALNAME:EbE
X-ORIGINAL-URL:https://www.eltern-beraten-eltern.de
X-WR-CALDESC:Veranstaltungen für EbE
REFRESH-INTERVAL;VALUE=DURATION:PT1H
X-Robots-Tag:noindex
X-PUBLISHED-TTL:PT1H
BEGIN:VTIMEZONE
TZID:Europe/Berlin
BEGIN:DAYLIGHT
TZOFFSETFROM:+0100
TZOFFSETTO:+0200
TZNAME:CEST
DTSTART:20250330T010000
END:DAYLIGHT
BEGIN:STANDARD
TZOFFSETFROM:+0200
TZOFFSETTO:+0100
TZNAME:CET
DTSTART:20251026T010000
END:STANDARD
BEGIN:DAYLIGHT
TZOFFSETFROM:+0100
TZOFFSETTO:+0200
TZNAME:CEST
DTSTART:20260329T010000
END:DAYLIGHT
BEGIN:STANDARD
TZOFFSETFROM:+0200
TZOFFSETTO:+0100
TZNAME:CET
DTSTART:20261025T010000
END:STANDARD
BEGIN:DAYLIGHT
TZOFFSETFROM:+0100
TZOFFSETTO:+0200
TZNAME:CEST
DTSTART:20270328T010000
END:DAYLIGHT
BEGIN:STANDARD
TZOFFSETFROM:+0200
TZOFFSETTO:+0100
TZNAME:CET
DTSTART:20271031T010000
END:STANDARD
END:VTIMEZONE
BEGIN:VEVENT
DTSTART;TZID=Europe/Berlin:20260502T140000
DTEND;TZID=Europe/Berlin:20260502T180000
DTSTAMP:20260419T205423
CREATED:20260113T172859Z
LAST-MODIFIED:20260219T095052Z
UID:10008465-1777730400-1777744800@www.eltern-beraten-eltern.de
SUMMARY:EbE: Bewegte Klangreise für unruhige Kinder
DESCRIPTION:EbE bietet in diesem Jahr drei Klangreisen-Formate an\, die jeweils auf unterschiedliche Zielgruppen zugeschnitten sind. \nDie Angebote finden von 14-18 Uhr in der gelben Villa\, Wilhelmshöhe 10\, 10965 Berlin-Kreuzberg statt und werden von Jeanette Kirsch (https://www.klanghand.de/) geleitet. \nEs können bis 20 Personen teilnehmen. Bitte meldet Euch mit der Personenanzahl bis spätestens 1 Woche vorher an: haefele@eltern-beraten-eltern.de \nBewegte Klangreise 2\, Termine: 2.5./ 20.6./ 7.11. 2026 \n14-14.45 Uhr: Ankommen15-16 Uhr : Klangreise16- 16.30 Uhr: AusklangDanach bis 18 Uhr: Zusammensein\, Austausch\, Waffeln essen \nDiese Klangreise ist für Familien mit Kindern gedacht\, die nicht still liegen oder sitzen können oder wollen – das ist hier willkommen. \nHier sind Klänge in Bewegung: Verschieden kleine Klanginstrumente geben Impulse\, die neugierig machen\, Mut schenken und Freude am Ausprobieren wecken. \nJedes Familienmitglied darf seinen eigenen Weg finden\, Klang und Bewegung zu verbinden – lebendig\, frei und ohne „richtig“ oder „falsch“. \nHier entsteht ein gemeinsamer Raum\, in dem Klang\, Ausdruck und Freude Platz haben. \n\nKlassische Klangreise 3\, Termine: 21.2./ 30.5./ 29.8. 2026 \nDiese Klangreise lädt euch als Familie zu einer gemeinsamen Auszeit ein — einem Moment\, in dem die Welt ein Stück leiser wird. \nKlangschalen\, Handpan und verschiedene Klanginstrumente öffnen einen Raum\, in dem innere Bilder entstehen können (es wird nichts vorgegeben). \nFarben\, Formen\, kleine Geschichten. Ihr dürft gemeinsam träumen\, lauschen\, entspannen oder einfach nur dabei sein. Teilt einen Moment der Ruhe\, Nähe und Verbundenheit\, der euch allen guttut und Kraft schenkt. \n\nKlangreise 1 für die basale Gruppe. Termine: 24.1./ 28.3./ 26.9./ 5.12. 2026 \nIn dieser Klangreise taucht ihr als Familie in einen Raum ein\, in dem alles ruhiger und weicher werden darf. Sanfte Töne\, warme Schwingungen und wiederkehrende Klänge schaffen eine Atmosphäre\, in der euer Kind sich sicher fühlen kann. \nGemeinsam spürt ihr\, Klänge und Vibrationen – Entspannung kann sich langsam ausbreitet. Ihr begleitet euer Kind mit Nähe und Geborgenheit – und erlebt einen Moment\, in dem „einfach Sein“ genügt.
URL:https://www.eltern-beraten-eltern.de/veranstaltung/ebe-bewegte-klangreise-fuer-unruhige-kinder/2026-05-02
CATEGORIES:Aktion & Kultur,EbE Veranstaltungen,Live
ATTACH;FMTTYPE=image/jpeg:https://www.eltern-beraten-eltern.de/wp-content/uploads/2026/01/Klangreise-unruhige-Kinder.jpg
END:VEVENT
BEGIN:VEVENT
DTSTART;TZID=Europe/Berlin:20260620T140000
DTEND;TZID=Europe/Berlin:20260620T180000
DTSTAMP:20260419T205423
CREATED:20260113T172859Z
LAST-MODIFIED:20260219T095052Z
UID:10008466-1781964000-1781978400@www.eltern-beraten-eltern.de
SUMMARY:EbE: Bewegte Klangreise für unruhige Kinder
DESCRIPTION:EbE bietet in diesem Jahr drei Klangreisen-Formate an\, die jeweils auf unterschiedliche Zielgruppen zugeschnitten sind. \nDie Angebote finden von 14-18 Uhr in der gelben Villa\, Wilhelmshöhe 10\, 10965 Berlin-Kreuzberg statt und werden von Jeanette Kirsch (https://www.klanghand.de/) geleitet. \nEs können bis 20 Personen teilnehmen. Bitte meldet Euch mit der Personenanzahl bis spätestens 1 Woche vorher an: haefele@eltern-beraten-eltern.de \nBewegte Klangreise 2\, Termine: 2.5./ 20.6./ 7.11. 2026 \n14-14.45 Uhr: Ankommen15-16 Uhr : Klangreise16- 16.30 Uhr: AusklangDanach bis 18 Uhr: Zusammensein\, Austausch\, Waffeln essen \nDiese Klangreise ist für Familien mit Kindern gedacht\, die nicht still liegen oder sitzen können oder wollen – das ist hier willkommen. \nHier sind Klänge in Bewegung: Verschieden kleine Klanginstrumente geben Impulse\, die neugierig machen\, Mut schenken und Freude am Ausprobieren wecken. \nJedes Familienmitglied darf seinen eigenen Weg finden\, Klang und Bewegung zu verbinden – lebendig\, frei und ohne „richtig“ oder „falsch“. \nHier entsteht ein gemeinsamer Raum\, in dem Klang\, Ausdruck und Freude Platz haben. \n\nKlassische Klangreise 3\, Termine: 21.2./ 30.5./ 29.8. 2026 \nDiese Klangreise lädt euch als Familie zu einer gemeinsamen Auszeit ein — einem Moment\, in dem die Welt ein Stück leiser wird. \nKlangschalen\, Handpan und verschiedene Klanginstrumente öffnen einen Raum\, in dem innere Bilder entstehen können (es wird nichts vorgegeben). \nFarben\, Formen\, kleine Geschichten. Ihr dürft gemeinsam träumen\, lauschen\, entspannen oder einfach nur dabei sein. Teilt einen Moment der Ruhe\, Nähe und Verbundenheit\, der euch allen guttut und Kraft schenkt. \n\nKlangreise 1 für die basale Gruppe. Termine: 24.1./ 28.3./ 26.9./ 5.12. 2026 \nIn dieser Klangreise taucht ihr als Familie in einen Raum ein\, in dem alles ruhiger und weicher werden darf. Sanfte Töne\, warme Schwingungen und wiederkehrende Klänge schaffen eine Atmosphäre\, in der euer Kind sich sicher fühlen kann. \nGemeinsam spürt ihr\, Klänge und Vibrationen – Entspannung kann sich langsam ausbreitet. Ihr begleitet euer Kind mit Nähe und Geborgenheit – und erlebt einen Moment\, in dem „einfach Sein“ genügt.
URL:https://www.eltern-beraten-eltern.de/veranstaltung/ebe-bewegte-klangreise-fuer-unruhige-kinder/2026-06-20
CATEGORIES:Aktion & Kultur,EbE Veranstaltungen,Live
ATTACH;FMTTYPE=image/jpeg:https://www.eltern-beraten-eltern.de/wp-content/uploads/2026/01/Klangreise-unruhige-Kinder.jpg
END:VEVENT
BEGIN:VEVENT
DTSTART;TZID=Europe/Berlin:20261107T140000
DTEND;TZID=Europe/Berlin:20261107T180000
DTSTAMP:20260419T205423
CREATED:20260113T172859Z
LAST-MODIFIED:20260219T095052Z
UID:10008467-1794060000-1794074400@www.eltern-beraten-eltern.de
SUMMARY:EbE: Bewegte Klangreise für unruhige Kinder
DESCRIPTION:EbE bietet in diesem Jahr drei Klangreisen-Formate an\, die jeweils auf unterschiedliche Zielgruppen zugeschnitten sind. \nDie Angebote finden von 14-18 Uhr in der gelben Villa\, Wilhelmshöhe 10\, 10965 Berlin-Kreuzberg statt und werden von Jeanette Kirsch (https://www.klanghand.de/) geleitet. \nEs können bis 20 Personen teilnehmen. Bitte meldet Euch mit der Personenanzahl bis spätestens 1 Woche vorher an: haefele@eltern-beraten-eltern.de \nBewegte Klangreise 2\, Termine: 2.5./ 20.6./ 7.11. 2026 \n14-14.45 Uhr: Ankommen15-16 Uhr : Klangreise16- 16.30 Uhr: AusklangDanach bis 18 Uhr: Zusammensein\, Austausch\, Waffeln essen \nDiese Klangreise ist für Familien mit Kindern gedacht\, die nicht still liegen oder sitzen können oder wollen – das ist hier willkommen. \nHier sind Klänge in Bewegung: Verschieden kleine Klanginstrumente geben Impulse\, die neugierig machen\, Mut schenken und Freude am Ausprobieren wecken. \nJedes Familienmitglied darf seinen eigenen Weg finden\, Klang und Bewegung zu verbinden – lebendig\, frei und ohne „richtig“ oder „falsch“. \nHier entsteht ein gemeinsamer Raum\, in dem Klang\, Ausdruck und Freude Platz haben. \n\nKlassische Klangreise 3\, Termine: 21.2./ 30.5./ 29.8. 2026 \nDiese Klangreise lädt euch als Familie zu einer gemeinsamen Auszeit ein — einem Moment\, in dem die Welt ein Stück leiser wird. \nKlangschalen\, Handpan und verschiedene Klanginstrumente öffnen einen Raum\, in dem innere Bilder entstehen können (es wird nichts vorgegeben). \nFarben\, Formen\, kleine Geschichten. Ihr dürft gemeinsam träumen\, lauschen\, entspannen oder einfach nur dabei sein. Teilt einen Moment der Ruhe\, Nähe und Verbundenheit\, der euch allen guttut und Kraft schenkt. \n\nKlangreise 1 für die basale Gruppe. Termine: 24.1./ 28.3./ 26.9./ 5.12. 2026 \nIn dieser Klangreise taucht ihr als Familie in einen Raum ein\, in dem alles ruhiger und weicher werden darf. Sanfte Töne\, warme Schwingungen und wiederkehrende Klänge schaffen eine Atmosphäre\, in der euer Kind sich sicher fühlen kann. \nGemeinsam spürt ihr\, Klänge und Vibrationen – Entspannung kann sich langsam ausbreitet. Ihr begleitet euer Kind mit Nähe und Geborgenheit – und erlebt einen Moment\, in dem „einfach Sein“ genügt.
URL:https://www.eltern-beraten-eltern.de/veranstaltung/ebe-bewegte-klangreise-fuer-unruhige-kinder/2026-11-07
CATEGORIES:Aktion & Kultur,EbE Veranstaltungen,Live
ATTACH;FMTTYPE=image/jpeg:https://www.eltern-beraten-eltern.de/wp-content/uploads/2026/01/Klangreise-unruhige-Kinder.jpg
END:VEVENT
END:VCALENDAR