BEGIN:VCALENDAR
VERSION:2.0
PRODID:-//EbE - ECPv6.15.20//NONSGML v1.0//EN
CALSCALE:GREGORIAN
METHOD:PUBLISH
X-WR-CALNAME:EbE
X-ORIGINAL-URL:https://www.eltern-beraten-eltern.de
X-WR-CALDESC:Veranstaltungen für EbE
REFRESH-INTERVAL;VALUE=DURATION:PT1H
X-Robots-Tag:noindex
X-PUBLISHED-TTL:PT1H
BEGIN:VTIMEZONE
TZID:Europe/Berlin
BEGIN:DAYLIGHT
TZOFFSETFROM:+0100
TZOFFSETTO:+0200
TZNAME:CEST
DTSTART:20250330T010000
END:DAYLIGHT
BEGIN:STANDARD
TZOFFSETFROM:+0200
TZOFFSETTO:+0100
TZNAME:CET
DTSTART:20251026T010000
END:STANDARD
BEGIN:DAYLIGHT
TZOFFSETFROM:+0100
TZOFFSETTO:+0200
TZNAME:CEST
DTSTART:20260329T010000
END:DAYLIGHT
BEGIN:STANDARD
TZOFFSETFROM:+0200
TZOFFSETTO:+0100
TZNAME:CET
DTSTART:20261025T010000
END:STANDARD
BEGIN:DAYLIGHT
TZOFFSETFROM:+0100
TZOFFSETTO:+0200
TZNAME:CEST
DTSTART:20270328T010000
END:DAYLIGHT
BEGIN:STANDARD
TZOFFSETFROM:+0200
TZOFFSETTO:+0100
TZNAME:CET
DTSTART:20271031T010000
END:STANDARD
END:VTIMEZONE
BEGIN:VEVENT
DTSTART;TZID=Europe/Berlin:20260603T180000
DTEND;TZID=Europe/Berlin:20260603T210000
DTSTAMP:20260419T235032
CREATED:20251217T132332Z
LAST-MODIFIED:20251217T132847Z
UID:10008440-1780509600-1780520400@www.eltern-beraten-eltern.de
SUMMARY:Single-Party & inklusive Disco im Böcklerpark/ Kreuzberg
DESCRIPTION:Sie wollen jemanden kennen-lernen? \nSie wollen tanzen? \nSie wollen Spaß haben? \nDann kommen Sie vorbei! \nWo: Statthaus BöcklerparkPrinzenstraße 1\, 10969 BerlinEintritt: 1 € \nParallel findet die inklusive Disco statt. \nEine Anmeldung ist nicht erforderlich. \nWeitere Termine: 03.06. und 02.09.2026  \nVeranstalter: Familienentlastender Dienst der Lebenshilfe Berlin in Kooperation mit Traumpaar
URL:https://www.eltern-beraten-eltern.de/veranstaltung/single-party-inklusive-disco-im-boecklerpark-kreuzberg/2026-06-03
CATEGORIES:Aktion & Kultur,Live
ATTACH;FMTTYPE=image/png:https://www.eltern-beraten-eltern.de/wp-content/uploads/2024/08/Love-Single-Party.png
END:VEVENT
BEGIN:VEVENT
DTSTART;TZID=Europe/Berlin:20260902T180000
DTEND;TZID=Europe/Berlin:20260902T210000
DTSTAMP:20260419T235032
CREATED:20251217T132332Z
LAST-MODIFIED:20251217T132847Z
UID:10008441-1788372000-1788382800@www.eltern-beraten-eltern.de
SUMMARY:Single-Party & inklusive Disco im Böcklerpark/ Kreuzberg
DESCRIPTION:Sie wollen jemanden kennen-lernen? \nSie wollen tanzen? \nSie wollen Spaß haben? \nDann kommen Sie vorbei! \nWo: Statthaus BöcklerparkPrinzenstraße 1\, 10969 BerlinEintritt: 1 € \nParallel findet die inklusive Disco statt. \nEine Anmeldung ist nicht erforderlich. \nWeitere Termine: 03.06. und 02.09.2026  \nVeranstalter: Familienentlastender Dienst der Lebenshilfe Berlin in Kooperation mit Traumpaar
URL:https://www.eltern-beraten-eltern.de/veranstaltung/single-party-inklusive-disco-im-boecklerpark-kreuzberg/2026-09-02
CATEGORIES:Aktion & Kultur,Live
ATTACH;FMTTYPE=image/png:https://www.eltern-beraten-eltern.de/wp-content/uploads/2024/08/Love-Single-Party.png
END:VEVENT
END:VCALENDAR