BEGIN:VCALENDAR
VERSION:2.0
PRODID:-//EbE - ECPv6.15.20//NONSGML v1.0//EN
CALSCALE:GREGORIAN
METHOD:PUBLISH
X-WR-CALNAME:EbE
X-ORIGINAL-URL:https://www.eltern-beraten-eltern.de
X-WR-CALDESC:Veranstaltungen für EbE
REFRESH-INTERVAL;VALUE=DURATION:PT1H
X-Robots-Tag:noindex
X-PUBLISHED-TTL:PT1H
BEGIN:VTIMEZONE
TZID:Europe/Berlin
BEGIN:DAYLIGHT
TZOFFSETFROM:+0100
TZOFFSETTO:+0200
TZNAME:CEST
DTSTART:20250330T010000
END:DAYLIGHT
BEGIN:STANDARD
TZOFFSETFROM:+0200
TZOFFSETTO:+0100
TZNAME:CET
DTSTART:20251026T010000
END:STANDARD
BEGIN:DAYLIGHT
TZOFFSETFROM:+0100
TZOFFSETTO:+0200
TZNAME:CEST
DTSTART:20260329T010000
END:DAYLIGHT
BEGIN:STANDARD
TZOFFSETFROM:+0200
TZOFFSETTO:+0100
TZNAME:CET
DTSTART:20261025T010000
END:STANDARD
BEGIN:DAYLIGHT
TZOFFSETFROM:+0100
TZOFFSETTO:+0200
TZNAME:CEST
DTSTART:20270328T010000
END:DAYLIGHT
BEGIN:STANDARD
TZOFFSETFROM:+0200
TZOFFSETTO:+0100
TZNAME:CET
DTSTART:20271031T010000
END:STANDARD
END:VTIMEZONE
BEGIN:VEVENT
DTSTART;TZID=Europe/Berlin:20260507T173000
DTEND;TZID=Europe/Berlin:20260507T203000
DTSTAMP:20260419T192800
CREATED:20251213T155746Z
LAST-MODIFIED:20251213T160347Z
UID:10008411-1778175000-1778185800@www.eltern-beraten-eltern.de
SUMMARY:Traumdisco2 – Party für alle in Neukölln!
DESCRIPTION:Die Traumdisco ist eine inklusive Veranstaltung. Alle Menschen können daran teilnehmen. Wir wollen miteinander tanzen und feiern. Der Eintritt ist frei. \nUnsere Termine 2026 für unsere Gäste und ihre Freunde\, Eltern und Betreuer gibt es hier: Termine Traumdisco Neukölln \nAdresse Traumdisco2: Martin-Luther-KircheFuldastr. 50\, 12045 Berlin-Neukölln \nEintritt: freiWenn ihr erkältet seid\, bitten wir Euch um gegenseitige Rücksichtnahme. \nDie Initiatoren der Traumdisco-Berlin sind zu erreichen unter: 0178 – 854 28 88In Zusammenarbeit mit der Evangelischen Kirchengemeinde Martin-Luther-Genezareth
URL:https://www.eltern-beraten-eltern.de/veranstaltung/traumdisco2-party-fuer-alle-in-neukoelln/2026-05-07
CATEGORIES:Aktion & Kultur,Live
ATTACH;FMTTYPE=image/png:https://www.eltern-beraten-eltern.de/wp-content/uploads/2025/12/Traumdisco-Berlin-2026.png
END:VEVENT
BEGIN:VEVENT
DTSTART;TZID=Europe/Berlin:20260702T173000
DTEND;TZID=Europe/Berlin:20260702T203000
DTSTAMP:20260419T192800
CREATED:20251213T155746Z
LAST-MODIFIED:20251213T160347Z
UID:10008412-1783013400-1783024200@www.eltern-beraten-eltern.de
SUMMARY:Traumdisco2 – Party für alle in Neukölln!
DESCRIPTION:Die Traumdisco ist eine inklusive Veranstaltung. Alle Menschen können daran teilnehmen. Wir wollen miteinander tanzen und feiern. Der Eintritt ist frei. \nUnsere Termine 2026 für unsere Gäste und ihre Freunde\, Eltern und Betreuer gibt es hier: Termine Traumdisco Neukölln \nAdresse Traumdisco2: Martin-Luther-KircheFuldastr. 50\, 12045 Berlin-Neukölln \nEintritt: freiWenn ihr erkältet seid\, bitten wir Euch um gegenseitige Rücksichtnahme. \nDie Initiatoren der Traumdisco-Berlin sind zu erreichen unter: 0178 – 854 28 88In Zusammenarbeit mit der Evangelischen Kirchengemeinde Martin-Luther-Genezareth
URL:https://www.eltern-beraten-eltern.de/veranstaltung/traumdisco2-party-fuer-alle-in-neukoelln/2026-07-02
CATEGORIES:Aktion & Kultur,Live
ATTACH;FMTTYPE=image/png:https://www.eltern-beraten-eltern.de/wp-content/uploads/2025/12/Traumdisco-Berlin-2026.png
END:VEVENT
BEGIN:VEVENT
DTSTART;TZID=Europe/Berlin:20261029T173000
DTEND;TZID=Europe/Berlin:20261029T203000
DTSTAMP:20260419T192800
CREATED:20251213T155746Z
LAST-MODIFIED:20251213T160347Z
UID:10008413-1793295000-1793305800@www.eltern-beraten-eltern.de
SUMMARY:Traumdisco2 – Party für alle in Neukölln!
DESCRIPTION:Die Traumdisco ist eine inklusive Veranstaltung. Alle Menschen können daran teilnehmen. Wir wollen miteinander tanzen und feiern. Der Eintritt ist frei. \nUnsere Termine 2026 für unsere Gäste und ihre Freunde\, Eltern und Betreuer gibt es hier: Termine Traumdisco Neukölln \nAdresse Traumdisco2: Martin-Luther-KircheFuldastr. 50\, 12045 Berlin-Neukölln \nEintritt: freiWenn ihr erkältet seid\, bitten wir Euch um gegenseitige Rücksichtnahme. \nDie Initiatoren der Traumdisco-Berlin sind zu erreichen unter: 0178 – 854 28 88In Zusammenarbeit mit der Evangelischen Kirchengemeinde Martin-Luther-Genezareth
URL:https://www.eltern-beraten-eltern.de/veranstaltung/traumdisco2-party-fuer-alle-in-neukoelln/2026-10-29
CATEGORIES:Aktion & Kultur,Live
ATTACH;FMTTYPE=image/png:https://www.eltern-beraten-eltern.de/wp-content/uploads/2025/12/Traumdisco-Berlin-2026.png
END:VEVENT
END:VCALENDAR