BEGIN:VCALENDAR
VERSION:2.0
PRODID:-//EbE - ECPv6.15.20//NONSGML v1.0//EN
CALSCALE:GREGORIAN
METHOD:PUBLISH
X-WR-CALNAME:EbE
X-ORIGINAL-URL:https://www.eltern-beraten-eltern.de
X-WR-CALDESC:Veranstaltungen für EbE
REFRESH-INTERVAL;VALUE=DURATION:PT1H
X-Robots-Tag:noindex
X-PUBLISHED-TTL:PT1H
BEGIN:VTIMEZONE
TZID:Europe/Berlin
BEGIN:DAYLIGHT
TZOFFSETFROM:+0100
TZOFFSETTO:+0200
TZNAME:CEST
DTSTART:20250330T010000
END:DAYLIGHT
BEGIN:STANDARD
TZOFFSETFROM:+0200
TZOFFSETTO:+0100
TZNAME:CET
DTSTART:20251026T010000
END:STANDARD
BEGIN:DAYLIGHT
TZOFFSETFROM:+0100
TZOFFSETTO:+0200
TZNAME:CEST
DTSTART:20260329T010000
END:DAYLIGHT
BEGIN:STANDARD
TZOFFSETFROM:+0200
TZOFFSETTO:+0100
TZNAME:CET
DTSTART:20261025T010000
END:STANDARD
BEGIN:DAYLIGHT
TZOFFSETFROM:+0100
TZOFFSETTO:+0200
TZNAME:CEST
DTSTART:20270328T010000
END:DAYLIGHT
BEGIN:STANDARD
TZOFFSETFROM:+0200
TZOFFSETTO:+0100
TZNAME:CET
DTSTART:20271031T010000
END:STANDARD
END:VTIMEZONE
BEGIN:VEVENT
DTSTART;TZID=Europe/Berlin:20260504T160000
DTEND;TZID=Europe/Berlin:20260504T173000
DTSTAMP:20260424T142328
CREATED:20250723T125146Z
LAST-MODIFIED:20250723T130210Z
UID:10007785-1777910400-1777915800@www.eltern-beraten-eltern.de
SUMMARY:Schöneberg: Spieltreff für Kinder mit Down-Syndrom
DESCRIPTION:Eltern und ihre Kinder im Alter von 1-5 Jahren treffen sich in einer vorbereiteten Spielumgebung. Die Selbsthilfe-Gruppe bietet den Eltern einen Raum für Vernetzung und Austausch\, die Kinder haben die Möglichkeit zu spielen und untereinander in Kontakt zu kommen. Der Nachmittag wird mit einem Singkreis beendet. \n\nfür Kinder von 1–5 Jahren1. Montag im Monat\, 16:00 – 17:30 Uhrim 1. Stock der Kiezoase Schöneberg\nein Mal pro Monat ein Treffen in der Turnhalle und Ausflüge\n\nAnmeldung: rauscher@pfh-berlin.deMehr Infos unter: www.downsyndromberlin.de \nAdreasse: Kiezoase SchönebergBarbarossastr 65 · 10781 BerlinKiezoase \nVeranstalter: downsyndromberlinLepsiusstraße 46\, 12163 Berlin
URL:https://www.eltern-beraten-eltern.de/veranstaltung/schoeneberg-spieltreff-fuer-kinder-mit-down-syndrom/2026-05-04
CATEGORIES:Austausch,Live
ATTACH;FMTTYPE=image/jpeg:https://www.eltern-beraten-eltern.de/wp-content/uploads/2025/07/Spieltreff2.jpg
END:VEVENT
BEGIN:VEVENT
DTSTART;TZID=Europe/Berlin:20260601T160000
DTEND;TZID=Europe/Berlin:20260601T173000
DTSTAMP:20260424T142328
CREATED:20250723T125146Z
LAST-MODIFIED:20250723T130210Z
UID:10007786-1780329600-1780335000@www.eltern-beraten-eltern.de
SUMMARY:Schöneberg: Spieltreff für Kinder mit Down-Syndrom
DESCRIPTION:Eltern und ihre Kinder im Alter von 1-5 Jahren treffen sich in einer vorbereiteten Spielumgebung. Die Selbsthilfe-Gruppe bietet den Eltern einen Raum für Vernetzung und Austausch\, die Kinder haben die Möglichkeit zu spielen und untereinander in Kontakt zu kommen. Der Nachmittag wird mit einem Singkreis beendet. \n\nfür Kinder von 1–5 Jahren1. Montag im Monat\, 16:00 – 17:30 Uhrim 1. Stock der Kiezoase Schöneberg\nein Mal pro Monat ein Treffen in der Turnhalle und Ausflüge\n\nAnmeldung: rauscher@pfh-berlin.deMehr Infos unter: www.downsyndromberlin.de \nAdreasse: Kiezoase SchönebergBarbarossastr 65 · 10781 BerlinKiezoase \nVeranstalter: downsyndromberlinLepsiusstraße 46\, 12163 Berlin
URL:https://www.eltern-beraten-eltern.de/veranstaltung/schoeneberg-spieltreff-fuer-kinder-mit-down-syndrom/2026-06-01
CATEGORIES:Austausch,Live
ATTACH;FMTTYPE=image/jpeg:https://www.eltern-beraten-eltern.de/wp-content/uploads/2025/07/Spieltreff2.jpg
END:VEVENT
BEGIN:VEVENT
DTSTART;TZID=Europe/Berlin:20260706T160000
DTEND;TZID=Europe/Berlin:20260706T173000
DTSTAMP:20260424T142328
CREATED:20250723T125146Z
LAST-MODIFIED:20250723T130210Z
UID:10007787-1783353600-1783359000@www.eltern-beraten-eltern.de
SUMMARY:Schöneberg: Spieltreff für Kinder mit Down-Syndrom
DESCRIPTION:Eltern und ihre Kinder im Alter von 1-5 Jahren treffen sich in einer vorbereiteten Spielumgebung. Die Selbsthilfe-Gruppe bietet den Eltern einen Raum für Vernetzung und Austausch\, die Kinder haben die Möglichkeit zu spielen und untereinander in Kontakt zu kommen. Der Nachmittag wird mit einem Singkreis beendet. \n\nfür Kinder von 1–5 Jahren1. Montag im Monat\, 16:00 – 17:30 Uhrim 1. Stock der Kiezoase Schöneberg\nein Mal pro Monat ein Treffen in der Turnhalle und Ausflüge\n\nAnmeldung: rauscher@pfh-berlin.deMehr Infos unter: www.downsyndromberlin.de \nAdreasse: Kiezoase SchönebergBarbarossastr 65 · 10781 BerlinKiezoase \nVeranstalter: downsyndromberlinLepsiusstraße 46\, 12163 Berlin
URL:https://www.eltern-beraten-eltern.de/veranstaltung/schoeneberg-spieltreff-fuer-kinder-mit-down-syndrom/2026-07-06
CATEGORIES:Austausch,Live
ATTACH;FMTTYPE=image/jpeg:https://www.eltern-beraten-eltern.de/wp-content/uploads/2025/07/Spieltreff2.jpg
END:VEVENT
END:VCALENDAR